Package: Xeva Version: 1.18.0 Command: /home/biocbuild/R/R-4.3.1/bin/R CMD check --install=check:Xeva.install-out.txt --library=/home/biocbuild/R/R-4.3.1/site-library --no-vignettes --timings Xeva_1.18.0.tar.gz StartedAt: 2023-11-02 15:12:24 -0000 (Thu, 02 Nov 2023) EndedAt: 2023-11-02 15:17:49 -0000 (Thu, 02 Nov 2023) EllapsedTime: 325.1 seconds RetCode: 0 Status: OK CheckDir: Xeva.Rcheck Warnings: 0