Package: Xeva Version: 1.18.0 Command: /home/biocbuild/R/R-4.3.1/bin/R CMD build --keep-empty-dirs --no-resave-data Xeva StartedAt: 2023-11-02 07:28:56 -0000 (Thu, 02 Nov 2023) EndedAt: 2023-11-02 07:30:29 -0000 (Thu, 02 Nov 2023) EllapsedTime: 93.5 seconds RetCode: 0 Status: OK PackageFile: Xeva_1.18.0.tar.gz PackageFileSize: 1.562 MiB