Package: Xeva Version: 1.18.0 Maintainer: Benjamin Haibe-Kains MaintainerEmail: benjamin.haibe.kains at utoronto.ca git_url: https://git.bioconductor.org/packages/Xeva git_branch: RELEASE_3_18 git_last_commit: 203e568 git_last_commit_date: 2023-10-24 11:11:27 -0400 (Tue, 24 Oct 2023)