Package: XVector Version: 0.42.0 Command: /home/biocbuild/bbs-3.18-bioc/R/bin/R CMD check --install=check:XVector.install-out.txt --library=/home/biocbuild/bbs-3.18-bioc/R/site-library --timings XVector_0.42.0.tar.gz StartedAt: 2024-04-16 05:16:59 -0400 (Tue, 16 Apr 2024) EndedAt: 2024-04-16 05:18:00 -0400 (Tue, 16 Apr 2024) EllapsedTime: 61.3 seconds RetCode: 0 Status: WARNINGS CheckDir: XVector.Rcheck Warnings: 2