Package: XNAString Version: 1.10.0 Command: /Library/Frameworks/R.framework/Resources/bin/R CMD INSTALL XNAString StartedAt: 2024-03-03 15:23:51 -0500 (Sun, 03 Mar 2024) EndedAt: 2024-03-03 15:27:23 -0500 (Sun, 03 Mar 2024) EllapsedTime: 212.1 seconds RetCode: 0 Status: OK