Package: XNAString Version: 1.10.0 Command: /Library/Frameworks/R.framework/Resources/bin/R CMD build --keep-empty-dirs --no-resave-data XNAString StartedAt: 2024-03-03 18:43:41 -0500 (Sun, 03 Mar 2024) EndedAt: 2024-03-03 18:46:27 -0500 (Sun, 03 Mar 2024) EllapsedTime: 166.7 seconds RetCode: 0 Status: OK PackageFile: XNAString_1.10.0.tar.gz PackageFileSize: 1.63 MiB