Package: XNAString Version: 1.10.0 Command: /home/biocbuild/R/R-4.3.1/bin/R CMD check --install=check:XNAString.install-out.txt --library=/home/biocbuild/R/R-4.3.1/site-library --no-vignettes --timings XNAString_1.10.0.tar.gz StartedAt: 2023-11-02 15:12:49 -0000 (Thu, 02 Nov 2023) EndedAt: 2023-11-02 15:19:28 -0000 (Thu, 02 Nov 2023) EllapsedTime: 399.8 seconds RetCode: 0 Status: WARNINGS CheckDir: XNAString.Rcheck Warnings: 1