Package: XNAString Version: 1.10.0 Command: /home/biocbuild/R/R-4.3.1/bin/R CMD build --keep-empty-dirs --no-resave-data XNAString StartedAt: 2023-11-02 07:29:51 -0000 (Thu, 02 Nov 2023) EndedAt: 2023-11-02 07:33:06 -0000 (Thu, 02 Nov 2023) EllapsedTime: 194.2 seconds RetCode: 0 Status: OK PackageFile: XNAString_1.10.0.tar.gz PackageFileSize: 1.691 MiB