Package: XDE Version: 2.48.0 Command: rm -rf XDE.buildbin-libdir && mkdir XDE.buildbin-libdir && /Users/biocbuild/BBS/utils/build-universal.sh XDE_2.48.0.tar.gz /Library/Frameworks/R.framework/Resources/bin/R XDE.buildbin-libdir StartedAt: 2024-03-04 01:10:50 -0500 (Mon, 04 Mar 2024) EndedAt: 2024-03-04 01:11:57 -0500 (Mon, 04 Mar 2024) EllapsedTime: 66.7 seconds RetCode: 0 Status: OK PackageFile: XDE_2.48.0.tgz PackageFileSize: 2.248 MiB