Package: XDE Version: 2.48.0 Command: /home/biocbuild/R/R-4.3.1/bin/R CMD check --install=check:XDE.install-out.txt --library=/home/biocbuild/R/R-4.3.1/site-library --no-vignettes --timings XDE_2.48.0.tar.gz StartedAt: 2023-11-02 15:12:09 -0000 (Thu, 02 Nov 2023) EndedAt: 2023-11-02 15:15:49 -0000 (Thu, 02 Nov 2023) EllapsedTime: 220.4 seconds RetCode: 0 Status: WARNINGS CheckDir: XDE.Rcheck Warnings: 1