Package: Wrench Version: 1.20.0 Command: rm -rf Wrench.buildbin-libdir && mkdir Wrench.buildbin-libdir && /Users/biocbuild/BBS/utils/build-universal.sh Wrench_1.20.0.tar.gz /Library/Frameworks/R.framework/Resources/bin/R Wrench.buildbin-libdir StartedAt: 2024-03-04 01:10:46 -0500 (Mon, 04 Mar 2024) EndedAt: 2024-03-04 01:10:53 -0500 (Mon, 04 Mar 2024) EllapsedTime: 7.1 seconds RetCode: 0 Status: OK PackageFile: Wrench_1.20.0.tgz PackageFileSize: 264.6 KiB