Package: Wrench Version: 1.19.0 Command: /home/biocbuild/R/R-4.3.1/bin/R CMD check --install=check:Wrench.install-out.txt --library=/home/biocbuild/R/R-4.3.1/site-library --timings Wrench_1.19.0.tar.gz StartedAt: 2023-10-20 14:23:56 -0000 (Fri, 20 Oct 2023) EndedAt: 2023-10-20 14:25:51 -0000 (Fri, 20 Oct 2023) EllapsedTime: 115.2 seconds RetCode: 0 Status: OK CheckDir: Wrench.Rcheck Warnings: 0