Package: VplotR Version: 1.12.1 Command: F:\biocbuild\bbs-3.18-bioc\R\bin\R.exe CMD INSTALL VplotR StartedAt: 2024-04-15 15:55:49 -0400 (Mon, 15 Apr 2024) EndedAt: 2024-04-15 15:56:30 -0400 (Mon, 15 Apr 2024) EllapsedTime: 40.9 seconds RetCode: 0 Status: OK