Package: VplotR Version: 1.12.1 Command: F:\biocbuild\bbs-3.18-bioc\R\bin\R.exe CMD check --no-multiarch --install=check:VplotR.install-out.txt --library=F:\biocbuild\bbs-3.18-bioc\R\library --no-vignettes --timings VplotR_1.12.1.tar.gz StartedAt: 2024-04-09 06:16:54 -0400 (Tue, 09 Apr 2024) EndedAt: 2024-04-09 06:23:10 -0400 (Tue, 09 Apr 2024) EllapsedTime: 375.5 seconds RetCode: 0 Status: OK CheckDir: VplotR.Rcheck Warnings: 0