Package: VplotR Version: 1.12.1 Command: rm -rf VplotR.buildbin-libdir && mkdir VplotR.buildbin-libdir && F:\biocbuild\bbs-3.18-bioc\R\bin\R.exe CMD INSTALL --build --library=VplotR.buildbin-libdir VplotR_1.12.1.tar.gz StartedAt: 2024-04-09 07:57:03 -0400 (Tue, 09 Apr 2024) EndedAt: 2024-04-09 07:57:42 -0400 (Tue, 09 Apr 2024) EllapsedTime: 39.7 seconds RetCode: 0 Status: OK PackageFile: VplotR_1.12.1.zip PackageFileSize: 5.119 MiB