Package: VplotR Version: 1.12.1 Command: /home/biocbuild/bbs-3.18-bioc/R/bin/R CMD build --keep-empty-dirs --no-resave-data VplotR StartedAt: 2024-04-15 19:44:23 -0400 (Mon, 15 Apr 2024) EndedAt: 2024-04-15 19:46:10 -0400 (Mon, 15 Apr 2024) EllapsedTime: 107.2 seconds RetCode: 0 Status: OK PackageFile: VplotR_1.12.1.tar.gz PackageFileSize: 5.097 MiB