Package: VplotR Version: 1.11.0 Command: /home/biocbuild/R/R-4.3.1/bin/R CMD check --install=check:VplotR.install-out.txt --library=/home/biocbuild/R/R-4.3.1/site-library --timings VplotR_1.11.0.tar.gz StartedAt: 2023-10-13 13:59:04 -0000 (Fri, 13 Oct 2023) EndedAt: 2023-10-13 14:08:12 -0000 (Fri, 13 Oct 2023) EllapsedTime: 547.8 seconds RetCode: 0 Status: WARNINGS CheckDir: VplotR.Rcheck Warnings: 1