Package: ViSEAGO Version: 1.16.0 Command: rm -rf ViSEAGO.buildbin-libdir && mkdir ViSEAGO.buildbin-libdir && F:\biocbuild\bbs-3.18-bioc\R\bin\R.exe CMD INSTALL --build --library=ViSEAGO.buildbin-libdir ViSEAGO_1.16.0.tar.gz StartedAt: 2024-04-16 07:50:54 -0400 (Tue, 16 Apr 2024) EndedAt: 2024-04-16 07:51:46 -0400 (Tue, 16 Apr 2024) EllapsedTime: 51.5 seconds RetCode: 0 Status: OK PackageFile: ViSEAGO_1.16.0.zip PackageFileSize: 9.086 MiB