Package: VariantTools Version: 1.44.0 Command: /Library/Frameworks/R.framework/Resources/bin/R CMD INSTALL VariantTools StartedAt: 2024-03-03 15:21:57 -0500 (Sun, 03 Mar 2024) EndedAt: 2024-03-03 15:22:57 -0500 (Sun, 03 Mar 2024) EllapsedTime: 60.2 seconds RetCode: 0 Status: OK