Package: VariantExperiment Version: 1.16.0 Command: chmod a+r VariantExperiment -R && F:\biocbuild\bbs-3.18-bioc\R\bin\R.exe CMD build --keep-empty-dirs --no-resave-data VariantExperiment StartedAt: 2024-04-15 21:53:37 -0400 (Mon, 15 Apr 2024) EndedAt: 2024-04-15 21:54:35 -0400 (Mon, 15 Apr 2024) EllapsedTime: 58.0 seconds RetCode: 0 Status: OK PackageFile: VariantExperiment_1.16.0.tar.gz PackageFileSize: 326.8 KiB