Package: VariantExperiment Version: 1.16.0 Command: rm -rf VariantExperiment.buildbin-libdir && mkdir VariantExperiment.buildbin-libdir && F:\biocbuild\bbs-3.18-bioc\R\bin\R.exe CMD INSTALL --build --library=VariantExperiment.buildbin-libdir VariantExperiment_1.16.0.tar.gz StartedAt: 2024-04-16 07:50:26 -0400 (Tue, 16 Apr 2024) EndedAt: 2024-04-16 07:51:00 -0400 (Tue, 16 Apr 2024) EllapsedTime: 33.6 seconds RetCode: 0 Status: OK PackageFile: VariantExperiment_1.16.0.zip PackageFileSize: 411.7 KiB