Package: VariantAnnotation Version: 1.48.1 Command: /home/biocbuild/bbs-3.18-bioc/R/bin/R CMD INSTALL VariantAnnotation StartedAt: 2024-04-15 15:25:07 -0400 (Mon, 15 Apr 2024) EndedAt: 2024-04-15 15:26:20 -0400 (Mon, 15 Apr 2024) EllapsedTime: 73.3 seconds RetCode: 0 Status: OK