Package: VariantAnnotation Version: 1.48.1 Command: /Library/Frameworks/R.framework/Resources/bin/R CMD INSTALL VariantAnnotation StartedAt: 2024-04-15 15:44:34 -0400 (Mon, 15 Apr 2024) EndedAt: 2024-04-15 15:47:05 -0400 (Mon, 15 Apr 2024) EllapsedTime: 151.4 seconds RetCode: 0 Status: OK