Package: VariantAnnotation Version: 1.48.1 Command: rm -rf VariantAnnotation.buildbin-libdir && mkdir VariantAnnotation.buildbin-libdir && /Users/biocbuild/BBS/utils/build-universal.sh VariantAnnotation_1.48.1.tar.gz /Library/Frameworks/R.framework/Resources/bin/R VariantAnnotation.buildbin-libdir StartedAt: 2024-04-16 12:55:33 -0400 (Tue, 16 Apr 2024) EndedAt: 2024-04-16 12:58:07 -0400 (Tue, 16 Apr 2024) EllapsedTime: 154.5 seconds RetCode: 0 Status: OK PackageFile: VariantAnnotation_1.48.1.tgz PackageFileSize: 4.15 MiB