Package: VariantAnnotation Version: 1.48.1 Command: /Library/Frameworks/R.framework/Resources/bin/R CMD INSTALL VariantAnnotation StartedAt: 2024-03-03 15:19:03 -0500 (Sun, 03 Mar 2024) EndedAt: 2024-03-03 15:20:48 -0500 (Sun, 03 Mar 2024) EllapsedTime: 105.0 seconds RetCode: 0 Status: OK