Package: VarCon Version: 1.10.0 Command: F:\biocbuild\bbs-3.18-bioc\R\bin\R.exe CMD INSTALL VarCon StartedAt: 2024-04-15 16:12:09 -0400 (Mon, 15 Apr 2024) EndedAt: 2024-04-15 16:13:01 -0400 (Mon, 15 Apr 2024) EllapsedTime: 51.9 seconds RetCode: 0 Status: OK