Package: VarCon Version: 1.10.0 Command: /Library/Frameworks/R.framework/Resources/bin/R CMD check --install=check:VarCon.install-out.txt --library=/Library/Frameworks/R.framework/Resources/library --no-vignettes --timings VarCon_1.10.0.tar.gz StartedAt: 2024-04-16 10:19:43 -0400 (Tue, 16 Apr 2024) EndedAt: 2024-04-16 10:28:22 -0400 (Tue, 16 Apr 2024) EllapsedTime: 519.1 seconds RetCode: 0 Status: OK CheckDir: VarCon.Rcheck Warnings: 0