Package: VarCon Version: 1.10.0 Command: /Library/Frameworks/R.framework/Resources/bin/R CMD check --install=check:VarCon.install-out.txt --library=/Library/Frameworks/R.framework/Resources/library --no-vignettes --timings VarCon_1.10.0.tar.gz StartedAt: 2024-03-04 00:07:33 -0500 (Mon, 04 Mar 2024) EndedAt: 2024-03-04 00:12:29 -0500 (Mon, 04 Mar 2024) EllapsedTime: 296.7 seconds RetCode: 0 Status: OK CheckDir: VarCon.Rcheck Warnings: 0