Package: VanillaICE Version: 1.64.1 Command: /home/biocbuild/bbs-3.18-bioc/R/bin/R CMD check --install=check:VanillaICE.install-out.txt --library=/home/biocbuild/bbs-3.18-bioc/R/site-library --timings VanillaICE_1.64.1.tar.gz StartedAt: 2024-04-16 05:03:49 -0400 (Tue, 16 Apr 2024) EndedAt: 2024-04-16 05:09:08 -0400 (Tue, 16 Apr 2024) EllapsedTime: 318.9 seconds RetCode: 0 Status: WARNINGS CheckDir: VanillaICE.Rcheck Warnings: 1