Package: VanillaICE Version: 1.64.1 Command: /Library/Frameworks/R.framework/Resources/bin/R CMD INSTALL VanillaICE StartedAt: 2024-04-15 15:34:23 -0400 (Mon, 15 Apr 2024) EndedAt: 2024-04-15 15:35:41 -0400 (Mon, 15 Apr 2024) EllapsedTime: 78.6 seconds RetCode: 0 Status: OK