Package: VanillaICE Version: 1.64.0 Command: /Library/Frameworks/R.framework/Resources/bin/R CMD INSTALL VanillaICE StartedAt: 2024-03-03 15:18:24 -0500 (Sun, 03 Mar 2024) EndedAt: 2024-03-03 15:19:15 -0500 (Sun, 03 Mar 2024) EllapsedTime: 51.1 seconds RetCode: 0 Status: OK