Package: VaSP Version: 1.14.0 Command: /Library/Frameworks/R.framework/Resources/bin/R CMD check --install=check:VaSP.install-out.txt --library=/Library/Frameworks/R.framework/Resources/library --no-vignettes --timings VaSP_1.14.0.tar.gz StartedAt: 2024-03-04 00:08:28 -0500 (Mon, 04 Mar 2024) EndedAt: 2024-03-04 00:13:07 -0500 (Mon, 04 Mar 2024) EllapsedTime: 278.9 seconds RetCode: 0 Status: OK CheckDir: VaSP.Rcheck Warnings: 0