Package: VaSP Version: 1.14.0 Command: rm -rf VaSP.buildbin-libdir && mkdir VaSP.buildbin-libdir && /Users/biocbuild/BBS/utils/build-universal.sh VaSP_1.14.0.tar.gz /Library/Frameworks/R.framework/Resources/bin/R VaSP.buildbin-libdir StartedAt: 2024-03-04 01:10:14 -0500 (Mon, 04 Mar 2024) EndedAt: 2024-03-04 01:11:09 -0500 (Mon, 04 Mar 2024) EllapsedTime: 54.2 seconds RetCode: 0 Status: OK PackageFile: VaSP_1.14.0.tgz PackageFileSize: 5.731 MiB