Package: VERSO Version: 1.12.0 Command: /Library/Frameworks/R.framework/Resources/bin/R CMD INSTALL VERSO StartedAt: 2024-04-15 15:37:41 -0400 (Mon, 15 Apr 2024) EndedAt: 2024-04-15 15:37:48 -0400 (Mon, 15 Apr 2024) EllapsedTime: 7.4 seconds RetCode: 0 Status: OK