Package: VERSO Version: 1.12.0 Command: /home/biocbuild/R/R-4.3.1/bin/R CMD build --keep-empty-dirs --no-resave-data VERSO StartedAt: 2023-11-02 07:23:38 -0000 (Thu, 02 Nov 2023) EndedAt: 2023-11-02 07:23:47 -0000 (Thu, 02 Nov 2023) EllapsedTime: 9.0 seconds RetCode: 0 Status: OK PackageFile: VERSO_1.12.0.tar.gz PackageFileSize: 756.1 KiB