Package: VDJdive Version: 1.4.0 Command: /Library/Frameworks/R.framework/Resources/bin/R CMD build --keep-empty-dirs --no-resave-data VDJdive StartedAt: 2024-03-03 18:41:11 -0500 (Sun, 03 Mar 2024) EndedAt: 2024-03-03 18:42:03 -0500 (Sun, 03 Mar 2024) EllapsedTime: 51.8 seconds RetCode: 0 Status: OK PackageFile: VDJdive_1.4.0.tar.gz PackageFileSize: 520.7 KiB