Package: VAExprs Version: 1.8.0 Command: F:\biocbuild\bbs-3.18-bioc\R\bin\R.exe CMD INSTALL VAExprs StartedAt: 2024-04-15 16:44:33 -0400 (Mon, 15 Apr 2024) EndedAt: 2024-04-15 16:45:17 -0400 (Mon, 15 Apr 2024) EllapsedTime: 44.5 seconds RetCode: 0 Status: OK