Package: VAExprs Version: 1.8.0 Command: rm -rf VAExprs.buildbin-libdir && mkdir VAExprs.buildbin-libdir && F:\biocbuild\bbs-3.18-bioc\R\bin\R.exe CMD INSTALL --build --library=VAExprs.buildbin-libdir VAExprs_1.8.0.tar.gz StartedAt: 2024-04-16 07:50:19 -0400 (Tue, 16 Apr 2024) EndedAt: 2024-04-16 07:51:04 -0400 (Tue, 16 Apr 2024) EllapsedTime: 44.8 seconds RetCode: 0 Status: OK PackageFile: VAExprs_1.8.0.zip PackageFileSize: 1.132 MiB