Package: VAExprs Version: 1.8.0 Command: /Library/Frameworks/R.framework/Resources/bin/R CMD INSTALL VAExprs StartedAt: 2024-04-15 16:38:08 -0400 (Mon, 15 Apr 2024) EndedAt: 2024-04-15 16:39:20 -0400 (Mon, 15 Apr 2024) EllapsedTime: 72.0 seconds RetCode: 0 Status: OK