Package: VAExprs Version: 1.8.0 Command: /Library/Frameworks/R.framework/Resources/bin/R CMD build --keep-empty-dirs --no-resave-data VAExprs StartedAt: 2024-03-03 18:40:12 -0500 (Sun, 03 Mar 2024) EndedAt: 2024-03-03 18:42:14 -0500 (Sun, 03 Mar 2024) EllapsedTime: 121.8 seconds RetCode: 0 Status: OK PackageFile: VAExprs_1.8.0.tar.gz PackageFileSize: 1.941 MiB