Package: VAExprs Version: 1.8.0 Command: rm -rf VAExprs.buildbin-libdir && mkdir VAExprs.buildbin-libdir && /Users/biocbuild/BBS/utils/build-universal.sh VAExprs_1.8.0.tar.gz /Library/Frameworks/R.framework/Resources/bin/R VAExprs.buildbin-libdir StartedAt: 2024-03-04 01:10:07 -0500 (Mon, 04 Mar 2024) EndedAt: 2024-03-04 01:11:00 -0500 (Mon, 04 Mar 2024) EllapsedTime: 52.8 seconds RetCode: 0 Status: OK PackageFile: VAExprs_1.8.0.tgz PackageFileSize: 1.633 MiB