Package: VAExprs Version: 1.7.0 Command: /home/biocbuild/R/R-4.3.1/bin/R CMD check --install=check:VAExprs.install-out.txt --library=/home/biocbuild/R/R-4.3.1/site-library --timings VAExprs_1.7.0.tar.gz StartedAt: 2023-10-20 14:11:12 -0000 (Fri, 20 Oct 2023) EndedAt: 2023-10-20 14:19:11 -0000 (Fri, 20 Oct 2023) EllapsedTime: 478.8 seconds RetCode: 0 Status: OK CheckDir: VAExprs.Rcheck Warnings: 0