Package: UniProt.ws Version: 2.42.0 Command: /home/biocbuild/R/R-4.3.1/bin/R CMD build --keep-empty-dirs --no-resave-data UniProt.ws StartedAt: 2023-11-02 07:19:03 -0000 (Thu, 02 Nov 2023) EndedAt: 2023-11-02 07:19:44 -0000 (Thu, 02 Nov 2023) EllapsedTime: 41.3 seconds RetCode: 0 Status: OK PackageFile: UniProt.ws_2.42.0.tar.gz PackageFileSize: 262 KiB