Package: UNDO Version: 1.44.0 Command: chmod a+r UNDO -R && F:\biocbuild\bbs-3.18-bioc\R\bin\R.exe CMD build --keep-empty-dirs --no-resave-data UNDO StartedAt: 2024-04-15 21:52:23 -0400 (Mon, 15 Apr 2024) EndedAt: 2024-04-15 21:52:36 -0400 (Mon, 15 Apr 2024) EllapsedTime: 13.6 seconds RetCode: 0 Status: OK PackageFile: UNDO_1.44.0.tar.gz PackageFileSize: 2.784 MiB