Package: UNDO Version: 1.44.0 Command: rm -rf UNDO.buildbin-libdir && mkdir UNDO.buildbin-libdir && F:\biocbuild\bbs-3.18-bioc\R\bin\R.exe CMD INSTALL --build --library=UNDO.buildbin-libdir UNDO_1.44.0.tar.gz StartedAt: 2024-04-16 07:50:09 -0400 (Tue, 16 Apr 2024) EndedAt: 2024-04-16 07:50:30 -0400 (Tue, 16 Apr 2024) EllapsedTime: 20.7 seconds RetCode: 0 Status: OK PackageFile: UNDO_1.44.0.zip PackageFileSize: 2.818 MiB