Package: UCell Version: 2.6.2 Command: chmod a+r UCell -R && F:\biocbuild\bbs-3.18-bioc\R\bin\R.exe CMD build --keep-empty-dirs --no-resave-data UCell StartedAt: 2024-04-15 21:52:04 -0400 (Mon, 15 Apr 2024) EndedAt: 2024-04-15 21:59:32 -0400 (Mon, 15 Apr 2024) EllapsedTime: 448.1 seconds RetCode: 0 Status: OK PackageFile: UCell_2.6.2.tar.gz PackageFileSize: 2.524 MiB