Package: UCell Version: 2.6.1 Command: /home/biocbuild/R/R-4.3.1/bin/R CMD INSTALL UCell StartedAt: 2023-11-01 20:21:28 -0000 (Wed, 01 Nov 2023) EndedAt: 2023-11-01 20:22:00 -0000 (Wed, 01 Nov 2023) EllapsedTime: 32.3 seconds RetCode: 0 Status: OK