Package: TurboNorm Version: 1.50.0 Command: /home/biocbuild/R/R-4.3.1/bin/R CMD INSTALL TurboNorm StartedAt: 2023-11-01 20:08:55 -0000 (Wed, 01 Nov 2023) EndedAt: 2023-11-01 20:09:20 -0000 (Wed, 01 Nov 2023) EllapsedTime: 25.6 seconds RetCode: 0 Status: OK