Package: TreeSummarizedExperiment Version: 2.10.0 Command: /home/biocbuild/bbs-3.18-bioc/R/bin/R CMD build --keep-empty-dirs --no-resave-data TreeSummarizedExperiment StartedAt: 2024-04-15 19:38:53 -0400 (Mon, 15 Apr 2024) EndedAt: 2024-04-15 19:39:50 -0400 (Mon, 15 Apr 2024) EllapsedTime: 57.1 seconds RetCode: 0 Status: OK PackageFile: TreeSummarizedExperiment_2.10.0.tar.gz PackageFileSize: 1.083 MiB