Package: TreeAndLeaf Version: 1.14.0 Command: /Library/Frameworks/R.framework/Resources/bin/R CMD INSTALL TreeAndLeaf StartedAt: 2024-03-03 15:17:21 -0500 (Sun, 03 Mar 2024) EndedAt: 2024-03-03 15:17:29 -0500 (Sun, 03 Mar 2024) EllapsedTime: 7.4 seconds RetCode: 0 Status: OK